BEGIN:VCALENDAR
VERSION:2.0
PRODID:-//Saalfelden-Leogang.com//NONSGML kigkonsult.se iCalcreator 2.22.1/
 /EN
METHOD:PUBLISH
X-WR-CALNAME;LANGUAGE=en:Saalfelden-Leogang.com
X-WR-CALDESC;LANGUAGE=en:Saalfelden-Leogang.com
X-WR-TIMEZONE;LANGUAGE=en:Europe/Berlin
BEGIN:VEVENT
UID:20260421T110519CEST-2333SKrLkj@Saalfelden-Leogang.com
DTSTAMP:20260421T090519Z
DESCRIPTION:
DTSTART:20261029T012358Z
DTEND:20261029T012358Z
LOCATION;LANGUAGE=en:Bike Park Leogang
SUMMARY;LANGUAGE=en:Team Training
END:VEVENT
END:VCALENDAR
